BEGIN:VCALENDAR
VERSION:2.0
PRODID:-//The Waverly - ECPv6.15.20//NONSGML v1.0//EN
CALSCALE:GREGORIAN
METHOD:PUBLISH
X-WR-CALNAME:The Waverly
X-ORIGINAL-URL:https://waverlyflorida.com
X-WR-CALDESC:Events for The Waverly
REFRESH-INTERVAL;VALUE=DURATION:PT1H
X-Robots-Tag:noindex
X-PUBLISHED-TTL:PT1H
BEGIN:VTIMEZONE
TZID:UTC
BEGIN:STANDARD
TZOFFSETFROM:+0000
TZOFFSETTO:+0000
TZNAME:UTC
DTSTART:20250101T000000
END:STANDARD
END:VTIMEZONE
BEGIN:VEVENT
DTSTART;TZID=UTC:20260423T130000
DTEND;TZID=UTC:20260423T160000
DTSTAMP:20260423T123619
CREATED:20260330T035200Z
LAST-MODIFIED:20260330T035200Z
UID:4767-1776949200-1776960000@waverlyflorida.com
SUMMARY:Johnny Awesome and The M ss ng Digits
DESCRIPTION:
URL:https://waverlyflorida.com/event/johnny-awesome-and-the-m-ss-ng-digits-8/
END:VEVENT
BEGIN:VEVENT
DTSTART;TZID=UTC:20260423T180000
DTEND;TZID=UTC:20260423T210000
DTSTAMP:20260423T123619
CREATED:20260330T035242Z
LAST-MODIFIED:20260330T035242Z
UID:4769-1776967200-1776978000@waverlyflorida.com
SUMMARY:Alan Fraser
DESCRIPTION:
URL:https://waverlyflorida.com/event/alan-fraser-6/
END:VEVENT
BEGIN:VEVENT
DTSTART;TZID=UTC:20260424T180000
DTEND;TZID=UTC:20260424T210000
DTSTAMP:20260423T123619
CREATED:20250723T215128Z
LAST-MODIFIED:20250723T215128Z
UID:3960-1777053600-1777064400@waverlyflorida.com
SUMMARY:Collaboration Band (Featuring Verceal Whitaker)
DESCRIPTION:
URL:https://waverlyflorida.com/event/collaboration-band-featuring-verceal-whitaker-4/
END:VEVENT
BEGIN:VEVENT
DTSTART;TZID=UTC:20260425T130000
DTEND;TZID=UTC:20260425T160000
DTSTAMP:20260423T123619
CREATED:20260330T035322Z
LAST-MODIFIED:20260330T035322Z
UID:4771-1777122000-1777132800@waverlyflorida.com
SUMMARY:Gary Vogel
DESCRIPTION:
URL:https://waverlyflorida.com/event/gary-vogel-7/
END:VEVENT
BEGIN:VEVENT
DTSTART;TZID=UTC:20260425T180000
DTEND;TZID=UTC:20260425T210000
DTSTAMP:20260423T123619
CREATED:20260421T151406Z
LAST-MODIFIED:20260421T151406Z
UID:4801-1777140000-1777150800@waverlyflorida.com
SUMMARY:The River Kings
DESCRIPTION:
URL:https://waverlyflorida.com/event/the-river-kings/
END:VEVENT
BEGIN:VEVENT
DTSTART;TZID=UTC:20260426T130000
DTEND;TZID=UTC:20260426T160000
DTSTAMP:20260423T123619
CREATED:20260330T035452Z
LAST-MODIFIED:20260330T035452Z
UID:4775-1777208400-1777219200@waverlyflorida.com
SUMMARY:Allen James
DESCRIPTION:
URL:https://waverlyflorida.com/event/allen-james-7/
END:VEVENT
BEGIN:VEVENT
DTSTART;TZID=UTC:20260426T180000
DTEND;TZID=UTC:20260426T210000
DTSTAMP:20260423T123619
CREATED:20260330T035533Z
LAST-MODIFIED:20260330T035533Z
UID:4777-1777226400-1777237200@waverlyflorida.com
SUMMARY:Branco Costa
DESCRIPTION:
URL:https://waverlyflorida.com/event/branco-costa-3/
END:VEVENT
BEGIN:VEVENT
DTSTART;TZID=UTC:20260427T180000
DTEND;TZID=UTC:20260427T210000
DTSTAMP:20260423T123619
CREATED:20260330T035617Z
LAST-MODIFIED:20260330T035617Z
UID:4779-1777312800-1777323600@waverlyflorida.com
SUMMARY:Chris Terp
DESCRIPTION:
URL:https://waverlyflorida.com/event/chris-terp-2/
END:VEVENT
BEGIN:VEVENT
DTSTART;TZID=UTC:20260428T180000
DTEND;TZID=UTC:20260428T210000
DTSTAMP:20260423T123619
CREATED:20260330T035656Z
LAST-MODIFIED:20260330T035656Z
UID:4781-1777399200-1777410000@waverlyflorida.com
SUMMARY:Jeff Cowherd
DESCRIPTION:
URL:https://waverlyflorida.com/event/jeff-cowherd-4/
END:VEVENT
BEGIN:VEVENT
DTSTART;TZID=UTC:20260429T130000
DTEND;TZID=UTC:20260429T160000
DTSTAMP:20260423T123619
CREATED:20260330T035734Z
LAST-MODIFIED:20260330T035734Z
UID:4783-1777467600-1777478400@waverlyflorida.com
SUMMARY:Doug Rucker
DESCRIPTION:
URL:https://waverlyflorida.com/event/doug-rucker-6/
END:VEVENT
BEGIN:VEVENT
DTSTART;TZID=UTC:20260429T180000
DTEND;TZID=UTC:20260429T210000
DTSTAMP:20260423T123619
CREATED:20260330T035816Z
LAST-MODIFIED:20260330T035816Z
UID:4785-1777485600-1777496400@waverlyflorida.com
SUMMARY:Jonny Puma
DESCRIPTION:
URL:https://waverlyflorida.com/event/jonny-puma-6/
END:VEVENT
BEGIN:VEVENT
DTSTART;TZID=UTC:20260430T130000
DTEND;TZID=UTC:20260430T160000
DTSTAMP:20260423T123619
CREATED:20260330T035906Z
LAST-MODIFIED:20260330T035906Z
UID:4787-1777554000-1777564800@waverlyflorida.com
SUMMARY:Johnny Awesome and The M ss ng Digits
DESCRIPTION:
URL:https://waverlyflorida.com/event/johnny-awesome-and-the-m-ss-ng-digits-9/
END:VEVENT
BEGIN:VEVENT
DTSTART;TZID=UTC:20260430T180000
DTEND;TZID=UTC:20260430T210000
DTSTAMP:20260423T123619
CREATED:20260330T035945Z
LAST-MODIFIED:20260330T035945Z
UID:4789-1777572000-1777582800@waverlyflorida.com
SUMMARY:Roy Michael
DESCRIPTION:
URL:https://waverlyflorida.com/event/roy-michael-3/
END:VEVENT
BEGIN:VEVENT
DTSTART;TZID=UTC:20260522T180000
DTEND;TZID=UTC:20260522T210000
DTSTAMP:20260423T123619
CREATED:20250723T215244Z
LAST-MODIFIED:20250723T215244Z
UID:3962-1779472800-1779483600@waverlyflorida.com
SUMMARY:Collaboration Band (Featuring Verceal Whitaker)
DESCRIPTION:
URL:https://waverlyflorida.com/event/collaboration-band-featuring-verceal-whitaker-5/
END:VEVENT
END:VCALENDAR